BEGIN:VCALENDAR
VERSION:2.0
PRODID:-//Intand Corporation//Tandem//EN
METHOD:PUBLISH
BEGIN:VEVENT
DTSTAMP:20260422T134025Z
DTSTART:20260428T150000Z
DTEND:20260428T210000Z
TRANSP:TRANSPARENT
PRIORITY:0
SUMMARY:ES 5th Grade Walk Through the Revolution Rehearsal
LOCATION:The Commons (Cafe')
DESCRIPTION:Groups:\nInternal\n\nLocation:\nThe Commons (Cafe')\n\n
URL;VALUE=URI:http://sfcs.tandem.co/index.php?type=view&action=event&id=10
 2535
CREATED:20250228T192531Z
LAST-MODIFIED:20260413T210627Z
UID:event-102535-sfcs@intand.com
END:VEVENT
END:VCALENDAR
