BEGIN:VCALENDAR
VERSION:2.0
PRODID:-//Intand Corporation//Tandem//EN
METHOD:PUBLISH
BEGIN:VEVENT
DTSTAMP:20260422T134025Z
DTSTART:20260501T203000Z
DTEND:20260501T211500Z
TRANSP:TRANSPARENT
PRIORITY:0
SUMMARY:Fire Bell Testing
LOCATION:TBD
DESCRIPTION:Groups:\nInternal\n\nLocation:\nTBD\n\n
URL;VALUE=URI:http://sfcs.tandem.co/index.php?type=view&action=event&id=10
 4468
CREATED:20250630T204216Z
LAST-MODIFIED:20250630T204216Z
UID:event-104468-sfcs@intand.com
END:VEVENT
END:VCALENDAR
