BEGIN:VCALENDAR
VERSION:2.0
PRODID:-//Intand Corporation//Tandem//EN
METHOD:PUBLISH
BEGIN:VEVENT
DTSTAMP:20260422T164249Z
DTSTART:20260615T180000Z
DTEND:20260615T190000Z
TRANSP:TRANSPARENT
PRIORITY:0
SUMMARY:Operations Team Meeting
LOCATION:Las Flores Conference Room
DESCRIPTION:Groups:\nInternal\n\nLocation:\nLas Flores Conference Room\n\n
URL;VALUE=URI:http://sfcs.tandem.co/index.php?type=view&action=event&id=10
 5238
CREATED:20250725T221520Z
LAST-MODIFIED:20250725T221520Z
UID:event-105238-sfcs@intand.com
END:VEVENT
END:VCALENDAR
