BEGIN:VCALENDAR
VERSION:2.0
PRODID:-//Intand Corporation//Tandem//EN
METHOD:PUBLISH
BEGIN:VEVENT
DTSTAMP:20260422T164324Z
DTSTART:20260513T201000Z
DTEND:20260513T213000Z
TRANSP:TRANSPARENT
PRIORITY:0
SUMMARY:MS Chapel - Awards
LOCATION:SFC - Gymnasium
DESCRIPTION:Groups:\nMiddle School\n\nSchools:\nSFCS - Middle\n\nLocation:
 \nSFC - Gymnasium\n\n
URL;VALUE=URI:http://sfcs.tandem.co/index.php?type=view&action=event&id=10
 5723
CREATED:20250808T195704Z
LAST-MODIFIED:20250808T200353Z
UID:event-105723-sfcs@intand.com
END:VEVENT
END:VCALENDAR
