BEGIN:VCALENDAR
VERSION:2.0
PRODID:-//Intand Corporation//Tandem//EN
METHOD:PUBLISH
BEGIN:VEVENT
DTSTAMP:20260422T134055Z
DTSTART:20260422T210000Z
DTEND:20260422T213000Z
TRANSP:TRANSPARENT
PRIORITY:0
SUMMARY:MS Advisory
LOCATION:Building 2 - Sudberry Hall (2000's)
DESCRIPTION:Groups:\nMiddle School\n\nSchools:\nSFCS - Middle\n\nLocation:
 \nBuilding 2 - Sudberry Hall (2000's)\n\n
URL;VALUE=URI:http://sfcs.tandem.co/index.php?type=view&action=event&id=10
 5753
CREATED:20250808T195957Z
LAST-MODIFIED:20250808T195957Z
UID:event-105753-sfcs@intand.com
END:VEVENT
END:VCALENDAR
