BEGIN:VCALENDAR
VERSION:2.0
PRODID:-//Intand Corporation//Tandem//EN
METHOD:PUBLISH
BEGIN:VEVENT
DTSTAMP:20260422T134056Z
DTSTART:20260408T170000Z
DTEND:20260408T180000Z
TRANSP:TRANSPARENT
PRIORITY:0
SUMMARY:Development - Jaclyn
LOCATION:Las Flores Conference Room
DESCRIPTION:Groups:\nDevelopment\nInternal\n\nLocation:\nLas Flores Confer
 ence Room\n\n
URL;VALUE=URI:http://sfcs.tandem.co/index.php?type=view&action=event&id=10
 7895
CREATED:20251110T220937Z
LAST-MODIFIED:20251110T220937Z
UID:event-107895-sfcs@intand.com
END:VEVENT
END:VCALENDAR
