BEGIN:VCALENDAR
VERSION:2.0
PRODID:-//Intand Corporation//Tandem//EN
METHOD:PUBLISH
BEGIN:VEVENT
DTSTAMP:20260422T161542Z
DTSTART:20260917T150000Z
DTEND:20260917T190000Z
TRANSP:TRANSPARENT
PRIORITY:0
SUMMARY:ES/MS/HS Picture Day Make-up
LOCATION:The Commons (Cafe')
DESCRIPTION:Schools:\nSFCS - Elementary\n\nLocation:\nThe Commons (Cafe')\
 n\n
URL;VALUE=URI:http://sfcs.tandem.co/index.php?type=view&action=event&id=10
 8692
CREATED:20260108T230825Z
LAST-MODIFIED:20260219T194905Z
UID:event-108692-sfcs@intand.com
END:VEVENT
END:VCALENDAR
