BEGIN:VCALENDAR
VERSION:2.0
PRODID:-//Intand Corporation//Tandem//EN
METHOD:PUBLISH
BEGIN:VEVENT
DTSTAMP:20260422T161844Z
DTSTART:20260923T150000Z
DTEND:20260923T170000Z
TRANSP:TRANSPARENT
PRIORITY:0
SUMMARY:Parent Engagement Guest Speaker
LOCATION:The Commons (Cafe')
DESCRIPTION:Groups:\nHigh School\nMiddle School\nElementary School\n\nScho
 ols:\nSFCS - Elementary\nSFCS - High School\nSFCS - Middle\n\nLocation:\nT
 he Commons (Cafe')\n\n
URL;VALUE=URI:http://sfcs.tandem.co/index.php?type=view&action=event&id=10
 8807
CREATED:20260113T211429Z
LAST-MODIFIED:20260113T211429Z
UID:event-108807-sfcs@intand.com
END:VEVENT
END:VCALENDAR
