BEGIN:VCALENDAR
VERSION:2.0
PRODID:-//Intand Corporation//Tandem//EN
METHOD:PUBLISH
BEGIN:VEVENT
DTSTAMP:20260422T134025Z
DTSTART:20260429T003000Z
DTEND:20260429T023000Z
TRANSP:TRANSPARENT
PRIORITY:0
SUMMARY:HS M LAX @ St Augustine
LOCATION:St. Augustine High School
DESCRIPTION:Groups:\nLacrosse - Men - Varsity\n\nSchools:\nSFCS - Athletic
 s\nSt. Augustine High School\n\nLocation:\nSt. Augustine High School\n\n
URL;VALUE=URI:http://sfcs.tandem.co/index.php?type=view&action=event&id=10
 9345
CREATED:20260121T171008Z
LAST-MODIFIED:20260121T171008Z
UID:event-109345-sfcs@intand.com
END:VEVENT
END:VCALENDAR
