BEGIN:VCALENDAR
VERSION:2.0
PRODID:-//Intand Corporation//Tandem//EN
METHOD:PUBLISH
BEGIN:VEVENT
DTSTAMP:20260422T164250Z
DTSTART:20260514T230000Z
DTEND:20260515T003000Z
TRANSP:TRANSPARENT
PRIORITY:0
SUMMARY:[Cancelled] HS Softball vs Escondido Charter
LOCATION:SFC - Softball Field
DESCRIPTION:Groups:\nSoftball - Women - Varsity\n\nSchools:\nSFCS - Athlet
 ics\n\nLocation:\nSFC - Softball Field\n\n
URL;VALUE=URI:http://sfcs.tandem.co/index.php?type=view&action=event&id=10
 9373
CREATED:20260121T222216Z
LAST-MODIFIED:20260413T013223Z
UID:event-109373-sfcs@intand.com
END:VEVENT
END:VCALENDAR
