BEGIN:VCALENDAR
VERSION:2.0
PRODID:-//Intand Corporation//Tandem//EN
METHOD:PUBLISH
BEGIN:VEVENT
DTSTAMP:20260422T161920Z
DTSTART:20260902T143000Z
DTEND:20260902T220000Z
TRANSP:TRANSPARENT
PRIORITY:0
SUMMARY:MS/HS School Pictures
LOCATION:The Commons (Cafe')
DESCRIPTION:Groups:\nHigh School\nMiddle School\n\nSchools:\nSFCS - High S
 chool\nSFCS - Middle\n\nLocation:\nThe Commons (Cafe')\n\n
URL;VALUE=URI:http://sfcs.tandem.co/index.php?type=view&action=event&id=10
 9400
CREATED:20260122T163351Z
LAST-MODIFIED:20260122T163351Z
UID:event-109400-sfcs@intand.com
END:VEVENT
END:VCALENDAR
