BEGIN:VCALENDAR
VERSION:2.0
PRODID:-//Intand Corporation//Tandem//EN
METHOD:PUBLISH
BEGIN:VEVENT
DTSTAMP:20260422T134056Z
DTSTART:20260501T190000Z
DTEND:20260501T203000Z
TRANSP:TRANSPARENT
PRIORITY:0
SUMMARY:Sr Signing Day Setup
LOCATION:The Commons (Cafe')
DESCRIPTION:Groups:\nHigh School\n\nSchools:\nSFCS - High School\n\nLocati
 on:\nThe Commons (Cafe')\n\n
URL;VALUE=URI:http://sfcs.tandem.co/index.php?type=view&action=event&id=10
 9514
CREATED:20260127T173057Z
LAST-MODIFIED:20260129T195019Z
UID:event-109514-sfcs@intand.com
END:VEVENT
END:VCALENDAR
