BEGIN:VCALENDAR
VERSION:2.0
PRODID:-//Intand Corporation//Tandem//EN
METHOD:PUBLISH
BEGIN:VEVENT
DTSTAMP:20260422T134049Z
DTSTART:20260430T230000Z
DTEND:20260501T020000Z
TRANSP:TRANSPARENT
PRIORITY:0
SUMMARY:HS Track Meet - Coastal Cluster 6
LOCATION:Orange Glen High School
DESCRIPTION:Groups:\nTrack & Field - Coed - Varsity\n\nSchools:\nSFCS - At
 hletics\n\nLocation:\nOrange Glen High School\n\n
URL;VALUE=URI:http://sfcs.tandem.co/index.php?type=view&action=event&id=10
 9543
CREATED:20260127T183451Z
LAST-MODIFIED:20260127T183451Z
UID:event-109543-sfcs@intand.com
END:VEVENT
END:VCALENDAR
