BEGIN:VCALENDAR
VERSION:2.0
PRODID:-//Intand Corporation//Tandem//EN
METHOD:PUBLISH
BEGIN:VEVENT
DTSTAMP:20260422T164204Z
DTSTART:20260518T220000Z
DTEND:20260519T053000Z
TRANSP:TRANSPARENT
PRIORITY:0
SUMMARY:HS M LAX Banquet
LOCATION:SFC - Gymnasium
DESCRIPTION:Groups:\nLacrosse - Men - Varsity\n\nSchools:\nSFCS - Athletic
 s\n\nLocation:\nSFC - Gymnasium\n\n
URL;VALUE=URI:http://sfcs.tandem.co/index.php?type=view&action=event&id=10
 9650
CREATED:20260128T203740Z
LAST-MODIFIED:20260128T203740Z
UID:event-109650-sfcs@intand.com
END:VEVENT
END:VCALENDAR
