BEGIN:VCALENDAR
VERSION:2.0
PRODID:-//Intand Corporation//Tandem//EN
METHOD:PUBLISH
BEGIN:VEVENT
DTSTAMP:20260422T134009Z
DTSTART:20260421T210000Z
DTEND:20260421T220000Z
TRANSP:TRANSPARENT
PRIORITY:0
SUMMARY:HS World Literature  Symposium Setup
LOCATION:The Commons (Cafe')
DESCRIPTION:Same chair setup as 7th grade coffee\n\n\nGroups:\nFacilities\
 n\nLocation:\nThe Commons (Cafe')\n\n
X-ALT-DESC;FMTTYPE=text/html:<!doctype html><html><body><strong>Same chair
  setup as 7th grade coffee</strong><br /><br />Groups:<br />Facilities<br 
 /><br />Location:<br />The Commons (Cafe')<br /></body></html>
URL;VALUE=URI:http://sfcs.tandem.co/index.php?type=view&action=event&id=10
 9698
CREATED:20260130T153440Z
LAST-MODIFIED:20260311T201209Z
UID:event-109698-sfcs@intand.com
END:VEVENT
END:VCALENDAR
