BEGIN:VCALENDAR
VERSION:2.0
PRODID:-//Intand Corporation//Tandem//EN
METHOD:PUBLISH
BEGIN:VEVENT
DTSTAMP:20260422T134008Z
DTSTART:20260402T230000Z
DTEND:20260403T003000Z
TRANSP:TRANSPARENT
PRIORITY:0
SUMMARY:HS W LAX @ Pacific Ridge
LOCATION:Pacific Ridge School
DESCRIPTION:Groups:\nLacrosse - Women - Varsity\n\nSchools:\nSFCS - Athlet
 ics\nPacific Ridge School\n\nLocation:\nPacific Ridge School\n\n
URL;VALUE=URI:http://sfcs.tandem.co/index.php?type=view&action=event&id=10
 9724
CREATED:20260202T171904Z
LAST-MODIFIED:20260204T162420Z
UID:event_request-109724-sfcs@intand.com
END:VEVENT
END:VCALENDAR
