BEGIN:VCALENDAR
VERSION:2.0
PRODID:-//Intand Corporation//Tandem//EN
METHOD:PUBLISH
BEGIN:VEVENT
DTSTAMP:20260422T134055Z
DTSTART:20260330T230000Z
DTEND:20260331T010000Z
TRANSP:TRANSPARENT
PRIORITY:0
SUMMARY:HS W LAX Practice (@Earl Warren)
LOCATION:EARL WARREN MIDDLE
DESCRIPTION:Groups:\nLacrosse - Women - Varsity\n\nSchools:\nEARL WARREN M
 IDDLE\nSFCS - Athletics\n\nLocation:\nEARL WARREN MIDDLE\n\n
URL;VALUE=URI:http://sfcs.tandem.co/index.php?type=view&action=event&id=10
 9776
CREATED:20260202T175752Z
LAST-MODIFIED:20260202T220409Z
UID:event_request-109776-sfcs@intand.com
END:VEVENT
END:VCALENDAR
