BEGIN:VCALENDAR
VERSION:2.0
PRODID:-//Intand Corporation//Tandem//EN
METHOD:PUBLISH
BEGIN:VEVENT
DTSTAMP:20260422T161844Z
DTSTART:20260826T233000Z
DTEND:20260827T010000Z
TRANSP:TRANSPARENT
PRIORITY:0
SUMMARY:HS Senior Parent College Event
LOCATION:The Commons (Cafe')
DESCRIPTION:Groups:\nHigh School\n\nSchools:\nSFCS - High School\n\nLocati
 on:\nThe Commons (Cafe')\n\n
URL;VALUE=URI:http://sfcs.tandem.co/index.php?type=view&action=event&id=10
 9795
CREATED:20260202T183229Z
LAST-MODIFIED:20260202T183229Z
UID:event-109795-sfcs@intand.com
END:VEVENT
END:VCALENDAR
