BEGIN:VCALENDAR
VERSION:2.0
PRODID:-//Intand Corporation//Tandem//EN
METHOD:PUBLISH
BEGIN:VEVENT
DTSTAMP:20260422T164044Z
DTSTART;VALUE=DATE:20270126
DTEND;VALUE=DATE:20270127
TRANSP:TRANSPARENT
PRIORITY:0
SUMMARY:HS College Case Studies at SFC
LOCATION:TBD
DESCRIPTION:Setup: TBD\nBreakdown: TBD\n\nDepart: TBD\nReturn: TBD\n\nGrou
 ps:\nHigh School\n\nSchools:\nSFCS - High School\n\nLocation:\nTBD\n\n
URL;VALUE=URI:http://sfcs.tandem.co/index.php?type=view&action=event&id=10
 9802
CREATED:20260202T184531Z
LAST-MODIFIED:20260202T184531Z
UID:event-109802-sfcs@intand.com
END:VEVENT
END:VCALENDAR
