BEGIN:VCALENDAR
VERSION:2.0
PRODID:-//Intand Corporation//Tandem//EN
METHOD:PUBLISH
BEGIN:VEVENT
DTSTAMP:20260422T162541Z
DTSTART:20260730T150000Z
DTEND:20260731T050000Z
TRANSP:TRANSPARENT
PRIORITY:0
SUMMARY:Hell Week 
LOCATION:The Commons (Cafe') Patio\, The Commons (Cafe')\, SFC - Football/
 Upper Field
DESCRIPTION:Groups:\nFootball - Men - Varsity\nFootball - Men - JV\nFootba
 ll - Men - Freshmen\n\nSchools:\nSFCS - High School\nSFCS - Athletics\nSFC
 S - Middle\n\nLocations:\nThe Commons (Cafe') Patio\nThe Commons (Cafe')\n
 SFC - Football/Upper Field\n\n
URL;VALUE=URI:http://sfcs.tandem.co/index.php?type=view&action=event&id=11
 0005
CREATED:20260205T174946Z
LAST-MODIFIED:20260205T174946Z
UID:event-110005-sfcs@intand.com
END:VEVENT
END:VCALENDAR
