BEGIN:VCALENDAR
VERSION:2.0
PRODID:-//Intand Corporation//Tandem//EN
METHOD:PUBLISH
BEGIN:VEVENT
DTSTAMP:20260422T190821Z
DTSTART:20260814T230000Z
DTEND:20260815T010000Z
TRANSP:TRANSPARENT
PRIORITY:0
SUMMARY:Football Scrimmage vs Monte Vista
LOCATION:SFC - Football/Upper Field
DESCRIPTION:Groups:\nFootball - Men - Varsity\nFootball - Men - JV\nFootba
 ll - Men - Freshmen\n\nSchools:\nSFCS - Athletics\n\nLocation:\nSFC - Foot
 ball/Upper Field\n\n
URL;VALUE=URI:http://sfcs.tandem.co/index.php?type=view&action=event&id=11
 0009
CREATED:20260205T175151Z
LAST-MODIFIED:20260205T175151Z
UID:event-110009-sfcs@intand.com
END:VEVENT
END:VCALENDAR
