BEGIN:VCALENDAR
VERSION:2.0
PRODID:-//Intand Corporation//Tandem//EN
METHOD:PUBLISH
BEGIN:VEVENT
DTSTAMP:20260422T164249Z
DTSTART:20260919T020000Z
DTEND:20260919T050000Z
TRANSP:TRANSPARENT
PRIORITY:0
SUMMARY:Football @ Army Navy
LOCATION:Army Navy Sports Complex
DESCRIPTION:Groups:\nFootball - Men - Varsity\nFootball - Men - JV\nFootba
 ll - Men - Freshmen\n\nSchools:\nSFCS - Athletics\n\nLocation:\nArmy Navy 
 Sports Complex\n\n
URL;VALUE=URI:http://sfcs.tandem.co/index.php?type=view&action=event&id=11
 0016
CREATED:20260205T175803Z
LAST-MODIFIED:20260205T175803Z
UID:event-110016-sfcs@intand.com
END:VEVENT
END:VCALENDAR
