BEGIN:VCALENDAR
VERSION:2.0
PRODID:-//Intand Corporation//Tandem//EN
METHOD:PUBLISH
BEGIN:VEVENT
DTSTAMP:20260422T134050Z
DTSTART:20260424T220000Z
DTEND:20260425T000000Z
TRANSP:TRANSPARENT
PRIORITY:0
SUMMARY:[Cancelled] MS Gold Baseball @ LJCD
LOCATION:La Jolla Country Day School
DESCRIPTION:Groups:\nMS Baseball Gold\n\nSchools:\nSFCS - Athletics\n\nLoc
 ation:\nLa Jolla Country Day School\n\n
URL;VALUE=URI:http://sfcs.tandem.co/index.php?type=view&action=event&id=11
 0113
CREATED:20260206T174945Z
LAST-MODIFIED:20260420T033203Z
UID:event-110113-sfcs@intand.com
END:VEVENT
END:VCALENDAR
