BEGIN:VCALENDAR
VERSION:2.0
PRODID:-//Intand Corporation//Tandem//EN
METHOD:PUBLISH
BEGIN:VEVENT
DTSTAMP:20260422T162424Z
DTSTART:20260505T220000Z
DTEND:20260505T230000Z
TRANSP:TRANSPARENT
PRIORITY:0
SUMMARY:Boys Gold Volleyball @ RSF
LOCATION:R. Roger Rowe School
DESCRIPTION:Groups:\nMS Boys Volleyball Gold\n\nSchools:\nSFCS - Athletics
 \n\nLocation:\nR. Roger Rowe School\n\n
URL;VALUE=URI:http://sfcs.tandem.co/index.php?type=view&action=event&id=11
 0141
CREATED:20260206T190653Z
LAST-MODIFIED:20260206T190653Z
UID:event-110141-sfcs@intand.com
END:VEVENT
END:VCALENDAR
