BEGIN:VCALENDAR
VERSION:2.0
PRODID:-//Intand Corporation//Tandem//EN
METHOD:PUBLISH
BEGIN:VEVENT
DTSTAMP:20260422T162451Z
DTSTART:20260505T230000Z
DTEND:20260506T000000Z
TRANSP:TRANSPARENT
PRIORITY:0
SUMMARY:Boys Red Volleyball @ RSF
LOCATION:R. Roger Rowe School
DESCRIPTION:Groups:\nMS Boys Volleyball Red\n\nSchools:\nSFCS - Athletics\
 n\nLocation:\nR. Roger Rowe School\n\n
URL;VALUE=URI:http://sfcs.tandem.co/index.php?type=view&action=event&id=11
 0142
CREATED:20260206T190735Z
LAST-MODIFIED:20260206T190735Z
UID:event-110142-sfcs@intand.com
END:VEVENT
END:VCALENDAR
