BEGIN:VCALENDAR
VERSION:2.0
PRODID:-//Intand Corporation//Tandem//EN
METHOD:PUBLISH
BEGIN:VEVENT
DTSTAMP:20260422T164142Z
DTSTART:20260617T160000Z
DTEND:20260617T190000Z
TRANSP:TRANSPARENT
PRIORITY:0
SUMMARY:ES/MS (4th-7th Grades) Intro to Pickleball
LOCATION:HS Lunch Area/Quad
DESCRIPTION:Groups:\nMiddle School\nElementary School\n\nSchools:\nSFCS - 
 Elementary\nSFCS - Middle\n\nLocation:\nHS Lunch Area/Quad\n\n
URL;VALUE=URI:http://sfcs.tandem.co/index.php?type=view&action=event&id=11
 0498
CREATED:20260210T214210Z
LAST-MODIFIED:20260210T215812Z
UID:event-110498-sfcs@intand.com
END:VEVENT
END:VCALENDAR
