BEGIN:VCALENDAR
VERSION:2.0
PRODID:-//Intand Corporation//Tandem//EN
METHOD:PUBLISH
BEGIN:VEVENT
DTSTAMP:20260422T134048Z
DTSTART:20260418T170000Z
DTEND:20260418T180000Z
TRANSP:TRANSPARENT
PRIORITY:0
SUMMARY:HS W LAX @ Francis Parker
LOCATION:Francis Parker School
DESCRIPTION:Groups:\nLacrosse - Women - Varsity\n\nSchools:\nSFCS - Athlet
 ics\n\nLocation:\nFrancis Parker School\n\n
URL;VALUE=URI:http://sfcs.tandem.co/index.php?type=view&action=event&id=11
 0546
CREATED:20260212T032754Z
LAST-MODIFIED:20260212T032754Z
UID:event-110546-sfcs@intand.com
END:VEVENT
END:VCALENDAR
