BEGIN:VCALENDAR
VERSION:2.0
PRODID:-//Intand Corporation//Tandem//EN
METHOD:PUBLISH
BEGIN:VEVENT
DTSTAMP:20260422T164150Z
DTSTART;VALUE=DATE:20261116
DTEND;VALUE=DATE:20261117
TRANSP:TRANSPARENT
PRIORITY:0
SUMMARY:MS 8th Grade to Rising Tide Ranch & Movie in the Commons
LOCATION:TBD
DESCRIPTION:Setup: TBD\nBreakdown: TBD\n\nDepart: TBD\nReturn: TBD\n\nGrou
 ps:\nMiddle School\n\nSchools:\nSFCS - Middle\n\nLocation:\nTBD\n\n
URL;VALUE=URI:http://sfcs.tandem.co/index.php?type=view&action=event&id=11
 0612
CREATED:20260213T221439Z
LAST-MODIFIED:20260213T221439Z
UID:event-110612-sfcs@intand.com
END:VEVENT
END:VCALENDAR
