BEGIN:VCALENDAR
VERSION:2.0
PRODID:-//Intand Corporation//Tandem//EN
METHOD:PUBLISH
BEGIN:VEVENT
DTSTAMP:20260422T161355Z
DTSTART:20260918T003000Z
DTEND:20260918T013000Z
TRANSP:TRANSPARENT
PRIORITY:0
SUMMARY:Board of Directors Meeting • Public | Open 
LOCATION:The Commons (Cafe')
DESCRIPTION:Schools:\nSFCS - Elementary\nSFCS - High School\nSFCS - Middle
 \n\nLocation:\nThe Commons (Cafe')\n\n
URL;VALUE=URI:http://sfcs.tandem.co/index.php?type=view&action=event&id=11
 1171
CREATED:20260226T222729Z
LAST-MODIFIED:20260306T175846Z
UID:event-111171-sfcs@intand.com
END:VEVENT
END:VCALENDAR
