BEGIN:VCALENDAR
VERSION:2.0
PRODID:-//Intand Corporation//Tandem//EN
METHOD:PUBLISH
BEGIN:VEVENT
DTSTAMP:20260422T161921Z
DTSTART:20270118T150000Z
DTEND:20270119T030000Z
TRANSP:TRANSPARENT
PRIORITY:0
SUMMARY:20th Annual MLK Showcase
LOCATION:SFC - Gymnasium
DESCRIPTION:Groups:\nBasketball - Men - Varsity\n\nSchools:\nSFCS - Athlet
 ics\n\nLocation:\nSFC - Gymnasium\n\n
URL;VALUE=URI:http://sfcs.tandem.co/index.php?type=view&action=event&id=11
 1287
CREATED:20260303T204802Z
LAST-MODIFIED:20260303T204802Z
UID:event-111287-sfcs@intand.com
END:VEVENT
END:VCALENDAR
