BEGIN:VCALENDAR
VERSION:2.0
PRODID:-//Intand Corporation//Tandem//EN
METHOD:PUBLISH
BEGIN:VEVENT
DTSTAMP:20260422T163700Z
DTSTART:20260930T220000Z
DTEND:20261001T000000Z
TRANSP:TRANSPARENT
PRIORITY:0
SUMMARY:Freshman Football Practice
LOCATION:SFC - Softball Field
DESCRIPTION:Groups:\nFootball - Men - Freshmen\n\nSchools:\nSFCS - Athleti
 cs\n\nLocation:\nSFC - Softball Field\n\n
URL;VALUE=URI:http://sfcs.tandem.co/index.php?type=view&action=event&id=11
 1890
CREATED:20260401T205455Z
LAST-MODIFIED:20260401T205455Z
UID:event-111890-sfcs@intand.com
END:VEVENT
END:VCALENDAR
