BEGIN:VCALENDAR
VERSION:2.0
PRODID:-//Intand Corporation//Tandem//EN
METHOD:PUBLISH
BEGIN:VEVENT
DTSTAMP:20260422T133603Z
DTSTART:20260416T223000Z
DTEND:20260417T010000Z
TRANSP:TRANSPARENT
PRIORITY:0
SUMMARY:Tennis @ Classical (Woodland Park)
LOCATION:Woodland Park Tennis Courts
DESCRIPTION:Groups:\nTennis - Men - Varsity\n\nSchools:\nSFCS - Athletics\
 n\nLocation:\nWoodland Park Tennis Courts\n\n
URL;VALUE=URI:http://sfcs.tandem.co/index.php?type=view&action=event&id=11
 2026
CREATED:20260413T013457Z
LAST-MODIFIED:20260413T013457Z
UID:event-112026-sfcs@intand.com
END:VEVENT
END:VCALENDAR
