BEGIN:VCALENDAR
VERSION:2.0
PRODID:-//Intand Corporation//Tandem//EN
METHOD:PUBLISH
BEGIN:VEVENT
DTSTAMP:20260422T133436Z
DTSTART:20260430T143000Z
DTEND:20260430T213000Z
TRANSP:TRANSPARENT
PRIORITY:0
SUMMARY:HSST in Las Flores
LOCATION:Las Flores Conference Room
DESCRIPTION:Groups:\nInternal\n\nLocation:\nLas Flores Conference Room\n\n
URL;VALUE=URI:http://sfcs.tandem.co/index.php?type=view&action=event&id=11
 2074
CREATED:20260415T221649Z
LAST-MODIFIED:20260416T163612Z
UID:event-112074-sfcs@intand.com
END:VEVENT
END:VCALENDAR
