BEGIN:VCALENDAR
VERSION:2.0
PRODID:-//Intand Corporation//Tandem//EN
METHOD:PUBLISH
BEGIN:VEVENT
DTSTAMP:20260422T133436Z
DTSTART:20260422T230000Z
DTEND:20260423T000000Z
TRANSP:TRANSPARENT
PRIORITY:0
SUMMARY:Girls Red Basketball @ Parker
LOCATION:Francis Parker School
DESCRIPTION:Groups:\nBasketball - Girls - Red\n\nSchools:\nSFCS - Athletic
 s\n\nLocation:\nFrancis Parker School\n\n
URL;VALUE=URI:http://sfcs.tandem.co/index.php?type=view&action=event&id=11
 2096
CREATED:20260417T152634Z
LAST-MODIFIED:20260417T152634Z
UID:event-112096-sfcs@intand.com
END:VEVENT
END:VCALENDAR
