BEGIN:VCALENDAR
VERSION:2.0
PRODID:-//Intand Corporation//Tandem//EN
METHOD:PUBLISH
BEGIN:VEVENT
DTSTAMP:20260422T133527Z
DTSTART:20260422T220000Z
DTEND:20260423T000000Z
TRANSP:TRANSPARENT
PRIORITY:0
SUMMARY:[Cancelled] MS Gold Baseball @ Francis Parker
LOCATION:Francis Parker School
DESCRIPTION:Groups:\nMS Baseball Gold\n\nSchools:\nSFCS - Athletics\n\nLoc
 ation:\nFrancis Parker School\n\n
URL;VALUE=URI:http://sfcs.tandem.co/index.php?type=view&action=event&id=11
 2118
CREATED:20260420T031959Z
LAST-MODIFIED:20260421T205525Z
UID:event-112118-sfcs@intand.com
END:VEVENT
END:VCALENDAR
